BEGIN:VCALENDAR
VERSION:2.0
PRODID:-//SGCH - St George Community Housing - ECPv6.15.20//NONSGML v1.0//EN
CALSCALE:GREGORIAN
METHOD:PUBLISH
X-ORIGINAL-URL:https://www.sgch.com.au
X-WR-CALDESC:Events for SGCH - St George Community Housing
REFRESH-INTERVAL;VALUE=DURATION:PT1H
X-Robots-Tag:noindex
X-PUBLISHED-TTL:PT1H
BEGIN:VTIMEZONE
TZID:Australia/Sydney
BEGIN:STANDARD
TZOFFSETFROM:+1100
TZOFFSETTO:+1000
TZNAME:AEST
DTSTART:20260404T160000
END:STANDARD
BEGIN:DAYLIGHT
TZOFFSETFROM:+1000
TZOFFSETTO:+1100
TZNAME:AEDT
DTSTART:20261003T160000
END:DAYLIGHT
BEGIN:STANDARD
TZOFFSETFROM:+1100
TZOFFSETTO:+1000
TZNAME:AEST
DTSTART:20270403T160000
END:STANDARD
BEGIN:DAYLIGHT
TZOFFSETFROM:+1000
TZOFFSETTO:+1100
TZNAME:AEDT
DTSTART:20271002T160000
END:DAYLIGHT
BEGIN:STANDARD
TZOFFSETFROM:+1100
TZOFFSETTO:+1000
TZNAME:AEST
DTSTART:20280401T160000
END:STANDARD
BEGIN:DAYLIGHT
TZOFFSETFROM:+1000
TZOFFSETTO:+1100
TZNAME:AEDT
DTSTART:20280930T160000
END:DAYLIGHT
END:VTIMEZONE
BEGIN:VEVENT
DTSTART;TZID=Australia/Sydney:20270505T080000
DTEND;TZID=Australia/Sydney:20270505T170000
DTSTAMP:20260422T021921
CREATED:20240702T044551Z
LAST-MODIFIED:20240702T045950Z
UID:10007378-1809504000-1809536400@www.sgch.com.au
SUMMARY:Crochet and Knitting Group
DESCRIPTION:The Crochet and Knitting Group meets weekly. Bring your projects\, share tips\, and enjoy a relaxed\, friendly atmosphere with fellow crafters of all skill levels.
URL:https://www.sgch.com.au/event/crochet-and-knitting-group/2027-05-05/
LOCATION:Fairfield Library\, 3 Hamilton Road\, Fairfield\, NSW\, 2165\, Australia
CATEGORIES:Art and Craft
ATTACH;FMTTYPE=image/jpeg:https://www.sgch.com.au/wp-content/uploads/2024/07/iStock-1356377377.jpg
ORGANIZER;CN="Connecting Communities Team":MAILTO:getinvolved@sgch.com.au
END:VEVENT
BEGIN:VEVENT
DTSTART;TZID=Australia/Sydney:20270512T080000
DTEND;TZID=Australia/Sydney:20270512T170000
DTSTAMP:20260422T021921
CREATED:20240702T044551Z
LAST-MODIFIED:20240702T045950Z
UID:10007379-1810108800-1810141200@www.sgch.com.au
SUMMARY:Crochet and Knitting Group
DESCRIPTION:The Crochet and Knitting Group meets weekly. Bring your projects\, share tips\, and enjoy a relaxed\, friendly atmosphere with fellow crafters of all skill levels.
URL:https://www.sgch.com.au/event/crochet-and-knitting-group/2027-05-12/
LOCATION:Fairfield Library\, 3 Hamilton Road\, Fairfield\, NSW\, 2165\, Australia
CATEGORIES:Art and Craft
ATTACH;FMTTYPE=image/jpeg:https://www.sgch.com.au/wp-content/uploads/2024/07/iStock-1356377377.jpg
ORGANIZER;CN="Connecting Communities Team":MAILTO:getinvolved@sgch.com.au
END:VEVENT
BEGIN:VEVENT
DTSTART;TZID=Australia/Sydney:20270519T080000
DTEND;TZID=Australia/Sydney:20270519T170000
DTSTAMP:20260422T021921
CREATED:20240702T044551Z
LAST-MODIFIED:20240702T045950Z
UID:10007380-1810713600-1810746000@www.sgch.com.au
SUMMARY:Crochet and Knitting Group
DESCRIPTION:The Crochet and Knitting Group meets weekly. Bring your projects\, share tips\, and enjoy a relaxed\, friendly atmosphere with fellow crafters of all skill levels.
URL:https://www.sgch.com.au/event/crochet-and-knitting-group/2027-05-19/
LOCATION:Fairfield Library\, 3 Hamilton Road\, Fairfield\, NSW\, 2165\, Australia
CATEGORIES:Art and Craft
ATTACH;FMTTYPE=image/jpeg:https://www.sgch.com.au/wp-content/uploads/2024/07/iStock-1356377377.jpg
ORGANIZER;CN="Connecting Communities Team":MAILTO:getinvolved@sgch.com.au
END:VEVENT
BEGIN:VEVENT
DTSTART;TZID=Australia/Sydney:20270526T080000
DTEND;TZID=Australia/Sydney:20270526T170000
DTSTAMP:20260422T021921
CREATED:20240702T044551Z
LAST-MODIFIED:20240702T045950Z
UID:10007381-1811318400-1811350800@www.sgch.com.au
SUMMARY:Crochet and Knitting Group
DESCRIPTION:The Crochet and Knitting Group meets weekly. Bring your projects\, share tips\, and enjoy a relaxed\, friendly atmosphere with fellow crafters of all skill levels.
URL:https://www.sgch.com.au/event/crochet-and-knitting-group/2027-05-26/
LOCATION:Fairfield Library\, 3 Hamilton Road\, Fairfield\, NSW\, 2165\, Australia
CATEGORIES:Art and Craft
ATTACH;FMTTYPE=image/jpeg:https://www.sgch.com.au/wp-content/uploads/2024/07/iStock-1356377377.jpg
ORGANIZER;CN="Connecting Communities Team":MAILTO:getinvolved@sgch.com.au
END:VEVENT
END:VCALENDAR