BEGIN:VCALENDAR
VERSION:2.0
PRODID:-//SGCH - St George Community Housing - ECPv6.15.20//NONSGML v1.0//EN
CALSCALE:GREGORIAN
METHOD:PUBLISH
X-WR-CALNAME:SGCH - St George Community Housing
X-ORIGINAL-URL:https://www.sgch.com.au
X-WR-CALDESC:Events for SGCH - St George Community Housing
REFRESH-INTERVAL;VALUE=DURATION:PT1H
X-Robots-Tag:noindex
X-PUBLISHED-TTL:PT1H
BEGIN:VTIMEZONE
TZID:Australia/Sydney
BEGIN:STANDARD
TZOFFSETFROM:+1100
TZOFFSETTO:+1000
TZNAME:AEST
DTSTART:20290331T160000
END:STANDARD
BEGIN:DAYLIGHT
TZOFFSETFROM:+1000
TZOFFSETTO:+1100
TZNAME:AEDT
DTSTART:20291006T160000
END:DAYLIGHT
BEGIN:STANDARD
TZOFFSETFROM:+1100
TZOFFSETTO:+1000
TZNAME:AEST
DTSTART:20300406T160000
END:STANDARD
BEGIN:DAYLIGHT
TZOFFSETFROM:+1000
TZOFFSETTO:+1100
TZNAME:AEDT
DTSTART:20301005T160000
END:DAYLIGHT
BEGIN:STANDARD
TZOFFSETFROM:+1100
TZOFFSETTO:+1000
TZNAME:AEST
DTSTART:20310405T160000
END:STANDARD
BEGIN:DAYLIGHT
TZOFFSETFROM:+1000
TZOFFSETTO:+1100
TZNAME:AEDT
DTSTART:20311004T160000
END:DAYLIGHT
END:VTIMEZONE
BEGIN:VEVENT
DTSTART;TZID=Australia/Sydney:20300403T103000
DTEND;TZID=Australia/Sydney:20300403T120000
DTSTAMP:20260426T115328
CREATED:20240702T060437Z
LAST-MODIFIED:20240702T060531Z
UID:10005420-1901442600-1901448000@www.sgch.com.au
SUMMARY:English Conversation Class
DESCRIPTION:The English Conversation Class meets weekly. Practise speaking English in a friendly\, supportive environment. Improve your language skills\, build confidence\, and meet new people from diverse backgrounds. All levels are welcome.
URL:https://www.sgch.com.au/event/english-conversation-class/2030-04-03/
LOCATION:Fairfield Library\, 3 Hamilton Road\, Fairfield\, NSW\, 2165\, Australia
CATEGORIES:Community Services,Social connection
ATTACH;FMTTYPE=image/jpeg:https://www.sgch.com.au/wp-content/uploads/2024/07/iStock-2061200120.jpg
ORGANIZER;CN="Connecting Communities Team":MAILTO:getinvolved@sgch.com.au
END:VEVENT
BEGIN:VEVENT
DTSTART;TZID=Australia/Sydney:20300408T133000
DTEND;TZID=Australia/Sydney:20300408T160000
DTSTAMP:20260426T115328
CREATED:20240702T031019Z
LAST-MODIFIED:20240702T045715Z
UID:10005831-1901885400-1901894400@www.sgch.com.au
SUMMARY:Services Australia
DESCRIPTION:A representative of Services Australia visits the SGCH Bonnyrigg office fortnightly. Appointments are essential. Call 1800 573 370 to make an appointment for assistance.
URL:https://www.sgch.com.au/event/services-australia/2030-04-08/
LOCATION:SGCH Bonnyrigg Office\, 4 Wall Place\, Bonnyrigg\, NSW\, 2177\, Australia
CATEGORIES:Community Services
ATTACH;FMTTYPE=image/jpeg:https://www.sgch.com.au/wp-content/uploads/2024/07/iStock-1371013411.jpg
GEO:-33.890490416905;150.89287741517
X-APPLE-STRUCTURED-LOCATION;VALUE=URI;X-ADDRESS=SGCH Bonnyrigg Office 4 Wall Place Bonnyrigg NSW 2177 Australia;X-APPLE-RADIUS=500;X-TITLE=4 Wall Place:geo:150.89287741517,-33.890490416905
END:VEVENT
BEGIN:VEVENT
DTSTART;TZID=Australia/Sydney:20300410T103000
DTEND;TZID=Australia/Sydney:20300410T120000
DTSTAMP:20260426T115328
CREATED:20240702T060437Z
LAST-MODIFIED:20240702T060531Z
UID:10005432-1902047400-1902052800@www.sgch.com.au
SUMMARY:English Conversation Class
DESCRIPTION:The English Conversation Class meets weekly. Practise speaking English in a friendly\, supportive environment. Improve your language skills\, build confidence\, and meet new people from diverse backgrounds. All levels are welcome.
URL:https://www.sgch.com.au/event/english-conversation-class/2030-04-10/
LOCATION:Fairfield Library\, 3 Hamilton Road\, Fairfield\, NSW\, 2165\, Australia
CATEGORIES:Community Services,Social connection
ATTACH;FMTTYPE=image/jpeg:https://www.sgch.com.au/wp-content/uploads/2024/07/iStock-2061200120.jpg
ORGANIZER;CN="Connecting Communities Team":MAILTO:getinvolved@sgch.com.au
END:VEVENT
BEGIN:VEVENT
DTSTART;TZID=Australia/Sydney:20300417T103000
DTEND;TZID=Australia/Sydney:20300417T120000
DTSTAMP:20260426T115328
CREATED:20240702T060437Z
LAST-MODIFIED:20240702T060531Z
UID:10005440-1902652200-1902657600@www.sgch.com.au
SUMMARY:English Conversation Class
DESCRIPTION:The English Conversation Class meets weekly. Practise speaking English in a friendly\, supportive environment. Improve your language skills\, build confidence\, and meet new people from diverse backgrounds. All levels are welcome.
URL:https://www.sgch.com.au/event/english-conversation-class/2030-04-17/
LOCATION:Fairfield Library\, 3 Hamilton Road\, Fairfield\, NSW\, 2165\, Australia
CATEGORIES:Community Services,Social connection
ATTACH;FMTTYPE=image/jpeg:https://www.sgch.com.au/wp-content/uploads/2024/07/iStock-2061200120.jpg
ORGANIZER;CN="Connecting Communities Team":MAILTO:getinvolved@sgch.com.au
END:VEVENT
BEGIN:VEVENT
DTSTART;TZID=Australia/Sydney:20300422T133000
DTEND;TZID=Australia/Sydney:20300422T160000
DTSTAMP:20260426T115328
CREATED:20240702T031019Z
LAST-MODIFIED:20240702T045715Z
UID:10005832-1903095000-1903104000@www.sgch.com.au
SUMMARY:Services Australia
DESCRIPTION:A representative of Services Australia visits the SGCH Bonnyrigg office fortnightly. Appointments are essential. Call 1800 573 370 to make an appointment for assistance.
URL:https://www.sgch.com.au/event/services-australia/2030-04-22/
LOCATION:SGCH Bonnyrigg Office\, 4 Wall Place\, Bonnyrigg\, NSW\, 2177\, Australia
CATEGORIES:Community Services
ATTACH;FMTTYPE=image/jpeg:https://www.sgch.com.au/wp-content/uploads/2024/07/iStock-1371013411.jpg
GEO:-33.890490416905;150.89287741517
X-APPLE-STRUCTURED-LOCATION;VALUE=URI;X-ADDRESS=SGCH Bonnyrigg Office 4 Wall Place Bonnyrigg NSW 2177 Australia;X-APPLE-RADIUS=500;X-TITLE=4 Wall Place:geo:150.89287741517,-33.890490416905
END:VEVENT
BEGIN:VEVENT
DTSTART;TZID=Australia/Sydney:20300424T103000
DTEND;TZID=Australia/Sydney:20300424T120000
DTSTAMP:20260426T115328
CREATED:20240702T060437Z
LAST-MODIFIED:20240702T060531Z
UID:10005449-1903257000-1903262400@www.sgch.com.au
SUMMARY:English Conversation Class
DESCRIPTION:The English Conversation Class meets weekly. Practise speaking English in a friendly\, supportive environment. Improve your language skills\, build confidence\, and meet new people from diverse backgrounds. All levels are welcome.
URL:https://www.sgch.com.au/event/english-conversation-class/2030-04-24/
LOCATION:Fairfield Library\, 3 Hamilton Road\, Fairfield\, NSW\, 2165\, Australia
CATEGORIES:Community Services,Social connection
ATTACH;FMTTYPE=image/jpeg:https://www.sgch.com.au/wp-content/uploads/2024/07/iStock-2061200120.jpg
ORGANIZER;CN="Connecting Communities Team":MAILTO:getinvolved@sgch.com.au
END:VEVENT
END:VCALENDAR