BEGIN:VCALENDAR
VERSION:2.0
PRODID:-//SGCH - St George Community Housing - ECPv6.15.20//NONSGML v1.0//EN
CALSCALE:GREGORIAN
METHOD:PUBLISH
X-WR-CALNAME:SGCH - St George Community Housing
X-ORIGINAL-URL:https://www.sgch.com.au
X-WR-CALDESC:Events for SGCH - St George Community Housing
REFRESH-INTERVAL;VALUE=DURATION:PT1H
X-Robots-Tag:noindex
X-PUBLISHED-TTL:PT1H
BEGIN:VTIMEZONE
TZID:Australia/Sydney
BEGIN:STANDARD
TZOFFSETFROM:+1100
TZOFFSETTO:+1000
TZNAME:AEST
DTSTART:20260404T160000
END:STANDARD
BEGIN:DAYLIGHT
TZOFFSETFROM:+1000
TZOFFSETTO:+1100
TZNAME:AEDT
DTSTART:20261003T160000
END:DAYLIGHT
BEGIN:STANDARD
TZOFFSETFROM:+1100
TZOFFSETTO:+1000
TZNAME:AEST
DTSTART:20270403T160000
END:STANDARD
BEGIN:DAYLIGHT
TZOFFSETFROM:+1000
TZOFFSETTO:+1100
TZNAME:AEDT
DTSTART:20271002T160000
END:DAYLIGHT
BEGIN:STANDARD
TZOFFSETFROM:+1100
TZOFFSETTO:+1000
TZNAME:AEST
DTSTART:20280401T160000
END:STANDARD
BEGIN:DAYLIGHT
TZOFFSETFROM:+1000
TZOFFSETTO:+1100
TZNAME:AEDT
DTSTART:20280930T160000
END:DAYLIGHT
END:VTIMEZONE
BEGIN:VEVENT
DTSTART;TZID=Australia/Sydney:20270505T103000
DTEND;TZID=Australia/Sydney:20270505T120000
DTSTAMP:20260421T033552
CREATED:20240702T060437Z
LAST-MODIFIED:20240702T060531Z
UID:10003978-1809513000-1809518400@www.sgch.com.au
SUMMARY:English Conversation Class
DESCRIPTION:The English Conversation Class meets weekly. Practise speaking English in a friendly\, supportive environment. Improve your language skills\, build confidence\, and meet new people from diverse backgrounds. All levels are welcome.
URL:https://www.sgch.com.au/event/english-conversation-class/2027-05-05/
LOCATION:Fairfield Library\, 3 Hamilton Road\, Fairfield\, NSW\, 2165\, Australia
CATEGORIES:Community Services,Social connection
ATTACH;FMTTYPE=image/jpeg:https://www.sgch.com.au/wp-content/uploads/2024/07/iStock-2061200120.jpg
ORGANIZER;CN="Connecting Communities Team":MAILTO:getinvolved@sgch.com.au
END:VEVENT
BEGIN:VEVENT
DTSTART;TZID=Australia/Sydney:20270506T100000
DTEND;TZID=Australia/Sydney:20270506T120000
DTSTAMP:20260421T033552
CREATED:20240731T055838Z
LAST-MODIFIED:20240731T055838Z
UID:10004301-1809597600-1809604800@www.sgch.com.au
SUMMARY:Adults Reading Support
DESCRIPTION:Adults Reading Support sessions are available weekly! Improve your reading skills in a supportive environment. Perfect for adults who want to build confidence and enjoy reading more. All levels are welcome. Bookings essential.
URL:https://www.sgch.com.au/event/adults-reading-support/2027-05-06/
LOCATION:Fairfield Library\, 3 Hamilton Road\, Fairfield\, NSW\, 2165\, Australia
CATEGORIES:Training and Education
ATTACH;FMTTYPE=image/jpeg:https://www.sgch.com.au/wp-content/uploads/2024/07/thought-catalog-PeRNNIGmoNU-unsplash-scaled.jpg
ORGANIZER;CN="Connecting Communities Team":MAILTO:getinvolved@sgch.com.au
END:VEVENT
BEGIN:VEVENT
DTSTART;TZID=Australia/Sydney:20270506T100000
DTEND;TZID=Australia/Sydney:20270506T130000
DTSTAMP:20260421T033552
CREATED:20240702T061605Z
LAST-MODIFIED:20240702T061605Z
UID:10004124-1809597600-1809608400@www.sgch.com.au
SUMMARY:Tech Help
DESCRIPTION:Tech Help sessions are available on the first Thursday of the month! Get assistance with your devices\, software\, and internet use. Perfect for beginners and anyone needing extra support with technology. Bring your questions and learn in a supportive environment.
URL:https://www.sgch.com.au/event/tech-help/2027-05-06/
LOCATION:Fairfield Library\, 3 Hamilton Road\, Fairfield\, NSW\, 2165\, Australia
CATEGORIES:Training and Education
ATTACH;FMTTYPE=image/jpeg:https://www.sgch.com.au/wp-content/uploads/2024/07/iStock-1406910762.jpg
ORGANIZER;CN="Connecting Communities Team":MAILTO:getinvolved@sgch.com.au
END:VEVENT
BEGIN:VEVENT
DTSTART;TZID=Australia/Sydney:20270510T133000
DTEND;TZID=Australia/Sydney:20270510T160000
DTSTAMP:20260421T033552
CREATED:20240702T031019Z
LAST-MODIFIED:20240702T045715Z
UID:10002733-1809955800-1809964800@www.sgch.com.au
SUMMARY:Services Australia
DESCRIPTION:A representative of Services Australia visits the SGCH Bonnyrigg office fortnightly. Appointments are essential. Call 1800 573 370 to make an appointment for assistance.
URL:https://www.sgch.com.au/event/services-australia/2027-05-10/
LOCATION:SGCH Bonnyrigg Office\, 4 Wall Place\, Bonnyrigg\, NSW\, 2177\, Australia
CATEGORIES:Community Services
ATTACH;FMTTYPE=image/jpeg:https://www.sgch.com.au/wp-content/uploads/2024/07/iStock-1371013411.jpg
GEO:-33.890490416905;150.89287741517
X-APPLE-STRUCTURED-LOCATION;VALUE=URI;X-ADDRESS=SGCH Bonnyrigg Office 4 Wall Place Bonnyrigg NSW 2177 Australia;X-APPLE-RADIUS=500;X-TITLE=4 Wall Place:geo:150.89287741517,-33.890490416905
END:VEVENT
BEGIN:VEVENT
DTSTART;TZID=Australia/Sydney:20270510T160000
DTEND;TZID=Australia/Sydney:20270510T173000
DTSTAMP:20260421T033552
CREATED:20240702T045835Z
LAST-MODIFIED:20240702T061647Z
UID:10002940-1809964800-1809970200@www.sgch.com.au
SUMMARY:Homework Help
DESCRIPTION:Join us each week for Homework Help! Students in K-6 can get assistance with their homework. Bring your questions and enjoy a supportive learning environment with helpful tutors.
URL:https://www.sgch.com.au/event/homework-help-2/2027-05-10/
LOCATION:Fairfield Library\, 3 Hamilton Road\, Fairfield\, NSW\, 2165\, Australia
CATEGORIES:Training and Education
ATTACH;FMTTYPE=image/jpeg:https://www.sgch.com.au/wp-content/uploads/2024/07/iStock-1034464980.jpg
ORGANIZER;CN="Connecting Communities Team":MAILTO:getinvolved@sgch.com.au
END:VEVENT
END:VCALENDAR