BEGIN:VCALENDAR
VERSION:2.0
PRODID:-//SGCH - St George Community Housing - ECPv6.15.20//NONSGML v1.0//EN
CALSCALE:GREGORIAN
METHOD:PUBLISH
X-WR-CALNAME:SGCH - St George Community Housing
X-ORIGINAL-URL:https://www.sgch.com.au
X-WR-CALDESC:Events for SGCH - St George Community Housing
REFRESH-INTERVAL;VALUE=DURATION:PT1H
X-Robots-Tag:noindex
X-PUBLISHED-TTL:PT1H
BEGIN:VTIMEZONE
TZID:Australia/Sydney
BEGIN:STANDARD
TZOFFSETFROM:+1100
TZOFFSETTO:+1000
TZNAME:AEST
DTSTART:20270403T160000
END:STANDARD
BEGIN:DAYLIGHT
TZOFFSETFROM:+1000
TZOFFSETTO:+1100
TZNAME:AEDT
DTSTART:20271002T160000
END:DAYLIGHT
BEGIN:STANDARD
TZOFFSETFROM:+1100
TZOFFSETTO:+1000
TZNAME:AEST
DTSTART:20280401T160000
END:STANDARD
BEGIN:DAYLIGHT
TZOFFSETFROM:+1000
TZOFFSETTO:+1100
TZNAME:AEDT
DTSTART:20280930T160000
END:DAYLIGHT
BEGIN:STANDARD
TZOFFSETFROM:+1100
TZOFFSETTO:+1000
TZNAME:AEST
DTSTART:20290331T160000
END:STANDARD
BEGIN:DAYLIGHT
TZOFFSETFROM:+1000
TZOFFSETTO:+1100
TZNAME:AEDT
DTSTART:20291006T160000
END:DAYLIGHT
END:VTIMEZONE
BEGIN:VEVENT
DTSTART;TZID=Australia/Sydney:20280106T100000
DTEND;TZID=Australia/Sydney:20280106T130000
DTSTAMP:20260426T044444
CREATED:20240702T061605Z
LAST-MODIFIED:20240702T061605Z
UID:10004132-1830765600-1830776400@www.sgch.com.au
SUMMARY:Tech Help
DESCRIPTION:Tech Help sessions are available on the first Thursday of the month! Get assistance with your devices\, software\, and internet use. Perfect for beginners and anyone needing extra support with technology. Bring your questions and learn in a supportive environment.
URL:https://www.sgch.com.au/event/tech-help/2028-01-06/
LOCATION:Fairfield Library\, 3 Hamilton Road\, Fairfield\, NSW\, 2165\, Australia
CATEGORIES:Training and Education
ATTACH;FMTTYPE=image/jpeg:https://www.sgch.com.au/wp-content/uploads/2024/07/iStock-1406910762.jpg
ORGANIZER;CN="Connecting Communities Team":MAILTO:getinvolved@sgch.com.au
END:VEVENT
BEGIN:VEVENT
DTSTART;TZID=Australia/Sydney:20280107T103000
DTEND;TZID=Australia/Sydney:20280107T120000
DTSTAMP:20260426T044444
CREATED:20241030T044507Z
LAST-MODIFIED:20241030T044507Z
UID:10005865-1830853800-1830859200@www.sgch.com.au
SUMMARY:Lane Cove Tenancy Outreach
DESCRIPTION:Speak with a Tenancy Manager or Support Coordinator in-person onsite for help with tenancy matters\, repairs and further support
URL:https://www.sgch.com.au/event/lane-cove-tenancy-outreach/2028-01-07/
LOCATION:Lane Cove Community Room\, 80 Penrose Street\, Lane Cove West\, NSW\, 2066\, Australia
ATTACH;FMTTYPE=image/jpeg:https://www.sgch.com.au/wp-content/uploads/2024/10/iStock-1286519342.jpg
ORGANIZER;CN="Connecting Communities Team":MAILTO:getinvolved@sgch.com.au
END:VEVENT
END:VCALENDAR