BEGIN:VCALENDAR
VERSION:2.0
PRODID:-//SGCH - St George Community Housing - ECPv6.15.20//NONSGML v1.0//EN
CALSCALE:GREGORIAN
METHOD:PUBLISH
X-WR-CALNAME:SGCH - St George Community Housing
X-ORIGINAL-URL:https://www.sgch.com.au
X-WR-CALDESC:Events for SGCH - St George Community Housing
REFRESH-INTERVAL;VALUE=DURATION:PT1H
X-Robots-Tag:noindex
X-PUBLISHED-TTL:PT1H
BEGIN:VTIMEZONE
TZID:Australia/Sydney
BEGIN:STANDARD
TZOFFSETFROM:+1100
TZOFFSETTO:+1000
TZNAME:AEST
DTSTART:20280401T160000
END:STANDARD
BEGIN:DAYLIGHT
TZOFFSETFROM:+1000
TZOFFSETTO:+1100
TZNAME:AEDT
DTSTART:20280930T160000
END:DAYLIGHT
BEGIN:STANDARD
TZOFFSETFROM:+1100
TZOFFSETTO:+1000
TZNAME:AEST
DTSTART:20290331T160000
END:STANDARD
BEGIN:DAYLIGHT
TZOFFSETFROM:+1000
TZOFFSETTO:+1100
TZNAME:AEDT
DTSTART:20291006T160000
END:DAYLIGHT
BEGIN:STANDARD
TZOFFSETFROM:+1100
TZOFFSETTO:+1000
TZNAME:AEST
DTSTART:20300406T160000
END:STANDARD
BEGIN:DAYLIGHT
TZOFFSETFROM:+1000
TZOFFSETTO:+1100
TZNAME:AEDT
DTSTART:20301005T160000
END:DAYLIGHT
END:VTIMEZONE
BEGIN:VEVENT
DTSTART;TZID=Australia/Sydney:20290123T120000
DTEND;TZID=Australia/Sydney:20290123T133000
DTSTAMP:20260421T111343
CREATED:20241030T042716Z
LAST-MODIFIED:20241030T042716Z
UID:10004851-1863864000-1863869400@www.sgch.com.au
SUMMARY:Artarmon Community Hearts Walking Group
DESCRIPTION:Join us for a light snack and scenic walk around Artarmon. Walking groups are a fun way to get more physically active whilst connecting with your community. 
URL:https://www.sgch.com.au/event/artarmon-community-hearts-walking-group/2029-01-23/
LOCATION:Artarmon Community Room\, 15-17 Barton Rd\, Artarmon\, NSW\, 2064\, Australia
ATTACH;FMTTYPE=image/jpeg:https://www.sgch.com.au/wp-content/uploads/2024/10/sk-Q6sRAxsAX68-unsplash-scaled.jpg
ORGANIZER;CN="Connecting Communities Team":MAILTO:getinvolved@sgch.com.au
END:VEVENT
BEGIN:VEVENT
DTSTART;TZID=Australia/Sydney:20290130T120000
DTEND;TZID=Australia/Sydney:20290130T133000
DTSTAMP:20260421T111343
CREATED:20241030T042716Z
LAST-MODIFIED:20241030T042716Z
UID:10004852-1864468800-1864474200@www.sgch.com.au
SUMMARY:Artarmon Community Hearts Walking Group
DESCRIPTION:Join us for a light snack and scenic walk around Artarmon. Walking groups are a fun way to get more physically active whilst connecting with your community. 
URL:https://www.sgch.com.au/event/artarmon-community-hearts-walking-group/2029-01-30/
LOCATION:Artarmon Community Room\, 15-17 Barton Rd\, Artarmon\, NSW\, 2064\, Australia
ATTACH;FMTTYPE=image/jpeg:https://www.sgch.com.au/wp-content/uploads/2024/10/sk-Q6sRAxsAX68-unsplash-scaled.jpg
ORGANIZER;CN="Connecting Communities Team":MAILTO:getinvolved@sgch.com.au
END:VEVENT
BEGIN:VEVENT
DTSTART;TZID=Australia/Sydney:20290206T120000
DTEND;TZID=Australia/Sydney:20290206T133000
DTSTAMP:20260421T111343
CREATED:20241030T042716Z
LAST-MODIFIED:20241030T042716Z
UID:10004853-1865073600-1865079000@www.sgch.com.au
SUMMARY:Artarmon Community Hearts Walking Group
DESCRIPTION:Join us for a light snack and scenic walk around Artarmon. Walking groups are a fun way to get more physically active whilst connecting with your community. 
URL:https://www.sgch.com.au/event/artarmon-community-hearts-walking-group/2029-02-06/
LOCATION:Artarmon Community Room\, 15-17 Barton Rd\, Artarmon\, NSW\, 2064\, Australia
ATTACH;FMTTYPE=image/jpeg:https://www.sgch.com.au/wp-content/uploads/2024/10/sk-Q6sRAxsAX68-unsplash-scaled.jpg
ORGANIZER;CN="Connecting Communities Team":MAILTO:getinvolved@sgch.com.au
END:VEVENT
BEGIN:VEVENT
DTSTART;TZID=Australia/Sydney:20290213T120000
DTEND;TZID=Australia/Sydney:20290213T133000
DTSTAMP:20260421T111343
CREATED:20241030T042716Z
LAST-MODIFIED:20241030T042716Z
UID:10004854-1865678400-1865683800@www.sgch.com.au
SUMMARY:Artarmon Community Hearts Walking Group
DESCRIPTION:Join us for a light snack and scenic walk around Artarmon. Walking groups are a fun way to get more physically active whilst connecting with your community. 
URL:https://www.sgch.com.au/event/artarmon-community-hearts-walking-group/2029-02-13/
LOCATION:Artarmon Community Room\, 15-17 Barton Rd\, Artarmon\, NSW\, 2064\, Australia
ATTACH;FMTTYPE=image/jpeg:https://www.sgch.com.au/wp-content/uploads/2024/10/sk-Q6sRAxsAX68-unsplash-scaled.jpg
ORGANIZER;CN="Connecting Communities Team":MAILTO:getinvolved@sgch.com.au
END:VEVENT
BEGIN:VEVENT
DTSTART;TZID=Australia/Sydney:20290220T120000
DTEND;TZID=Australia/Sydney:20290220T133000
DTSTAMP:20260421T111343
CREATED:20241030T042716Z
LAST-MODIFIED:20241030T042716Z
UID:10004855-1866283200-1866288600@www.sgch.com.au
SUMMARY:Artarmon Community Hearts Walking Group
DESCRIPTION:Join us for a light snack and scenic walk around Artarmon. Walking groups are a fun way to get more physically active whilst connecting with your community. 
URL:https://www.sgch.com.au/event/artarmon-community-hearts-walking-group/2029-02-20/
LOCATION:Artarmon Community Room\, 15-17 Barton Rd\, Artarmon\, NSW\, 2064\, Australia
ATTACH;FMTTYPE=image/jpeg:https://www.sgch.com.au/wp-content/uploads/2024/10/sk-Q6sRAxsAX68-unsplash-scaled.jpg
ORGANIZER;CN="Connecting Communities Team":MAILTO:getinvolved@sgch.com.au
END:VEVENT
BEGIN:VEVENT
DTSTART;TZID=Australia/Sydney:20290227T120000
DTEND;TZID=Australia/Sydney:20290227T133000
DTSTAMP:20260421T111343
CREATED:20241030T042716Z
LAST-MODIFIED:20241030T042716Z
UID:10004856-1866888000-1866893400@www.sgch.com.au
SUMMARY:Artarmon Community Hearts Walking Group
DESCRIPTION:Join us for a light snack and scenic walk around Artarmon. Walking groups are a fun way to get more physically active whilst connecting with your community. 
URL:https://www.sgch.com.au/event/artarmon-community-hearts-walking-group/2029-02-27/
LOCATION:Artarmon Community Room\, 15-17 Barton Rd\, Artarmon\, NSW\, 2064\, Australia
ATTACH;FMTTYPE=image/jpeg:https://www.sgch.com.au/wp-content/uploads/2024/10/sk-Q6sRAxsAX68-unsplash-scaled.jpg
ORGANIZER;CN="Connecting Communities Team":MAILTO:getinvolved@sgch.com.au
END:VEVENT
BEGIN:VEVENT
DTSTART;TZID=Australia/Sydney:20290306T120000
DTEND;TZID=Australia/Sydney:20290306T133000
DTSTAMP:20260421T111343
CREATED:20241030T042716Z
LAST-MODIFIED:20241030T042716Z
UID:10004857-1867492800-1867498200@www.sgch.com.au
SUMMARY:Artarmon Community Hearts Walking Group
DESCRIPTION:Join us for a light snack and scenic walk around Artarmon. Walking groups are a fun way to get more physically active whilst connecting with your community. 
URL:https://www.sgch.com.au/event/artarmon-community-hearts-walking-group/2029-03-06/
LOCATION:Artarmon Community Room\, 15-17 Barton Rd\, Artarmon\, NSW\, 2064\, Australia
ATTACH;FMTTYPE=image/jpeg:https://www.sgch.com.au/wp-content/uploads/2024/10/sk-Q6sRAxsAX68-unsplash-scaled.jpg
ORGANIZER;CN="Connecting Communities Team":MAILTO:getinvolved@sgch.com.au
END:VEVENT
BEGIN:VEVENT
DTSTART;TZID=Australia/Sydney:20290313T120000
DTEND;TZID=Australia/Sydney:20290313T133000
DTSTAMP:20260421T111343
CREATED:20241030T042716Z
LAST-MODIFIED:20241030T042716Z
UID:10004858-1868097600-1868103000@www.sgch.com.au
SUMMARY:Artarmon Community Hearts Walking Group
DESCRIPTION:Join us for a light snack and scenic walk around Artarmon. Walking groups are a fun way to get more physically active whilst connecting with your community. 
URL:https://www.sgch.com.au/event/artarmon-community-hearts-walking-group/2029-03-13/
LOCATION:Artarmon Community Room\, 15-17 Barton Rd\, Artarmon\, NSW\, 2064\, Australia
ATTACH;FMTTYPE=image/jpeg:https://www.sgch.com.au/wp-content/uploads/2024/10/sk-Q6sRAxsAX68-unsplash-scaled.jpg
ORGANIZER;CN="Connecting Communities Team":MAILTO:getinvolved@sgch.com.au
END:VEVENT
BEGIN:VEVENT
DTSTART;TZID=Australia/Sydney:20290320T120000
DTEND;TZID=Australia/Sydney:20290320T133000
DTSTAMP:20260421T111343
CREATED:20241030T042716Z
LAST-MODIFIED:20241030T042716Z
UID:10004859-1868702400-1868707800@www.sgch.com.au
SUMMARY:Artarmon Community Hearts Walking Group
DESCRIPTION:Join us for a light snack and scenic walk around Artarmon. Walking groups are a fun way to get more physically active whilst connecting with your community. 
URL:https://www.sgch.com.au/event/artarmon-community-hearts-walking-group/2029-03-20/
LOCATION:Artarmon Community Room\, 15-17 Barton Rd\, Artarmon\, NSW\, 2064\, Australia
ATTACH;FMTTYPE=image/jpeg:https://www.sgch.com.au/wp-content/uploads/2024/10/sk-Q6sRAxsAX68-unsplash-scaled.jpg
ORGANIZER;CN="Connecting Communities Team":MAILTO:getinvolved@sgch.com.au
END:VEVENT
BEGIN:VEVENT
DTSTART;TZID=Australia/Sydney:20290327T120000
DTEND;TZID=Australia/Sydney:20290327T133000
DTSTAMP:20260421T111343
CREATED:20241030T042716Z
LAST-MODIFIED:20241030T042716Z
UID:10004860-1869307200-1869312600@www.sgch.com.au
SUMMARY:Artarmon Community Hearts Walking Group
DESCRIPTION:Join us for a light snack and scenic walk around Artarmon. Walking groups are a fun way to get more physically active whilst connecting with your community. 
URL:https://www.sgch.com.au/event/artarmon-community-hearts-walking-group/2029-03-27/
LOCATION:Artarmon Community Room\, 15-17 Barton Rd\, Artarmon\, NSW\, 2064\, Australia
ATTACH;FMTTYPE=image/jpeg:https://www.sgch.com.au/wp-content/uploads/2024/10/sk-Q6sRAxsAX68-unsplash-scaled.jpg
ORGANIZER;CN="Connecting Communities Team":MAILTO:getinvolved@sgch.com.au
END:VEVENT
BEGIN:VEVENT
DTSTART;TZID=Australia/Sydney:20290403T120000
DTEND;TZID=Australia/Sydney:20290403T133000
DTSTAMP:20260421T111343
CREATED:20241030T042716Z
LAST-MODIFIED:20241030T042716Z
UID:10004861-1869912000-1869917400@www.sgch.com.au
SUMMARY:Artarmon Community Hearts Walking Group
DESCRIPTION:Join us for a light snack and scenic walk around Artarmon. Walking groups are a fun way to get more physically active whilst connecting with your community. 
URL:https://www.sgch.com.au/event/artarmon-community-hearts-walking-group/2029-04-03/
LOCATION:Artarmon Community Room\, 15-17 Barton Rd\, Artarmon\, NSW\, 2064\, Australia
ATTACH;FMTTYPE=image/jpeg:https://www.sgch.com.au/wp-content/uploads/2024/10/sk-Q6sRAxsAX68-unsplash-scaled.jpg
ORGANIZER;CN="Connecting Communities Team":MAILTO:getinvolved@sgch.com.au
END:VEVENT
BEGIN:VEVENT
DTSTART;TZID=Australia/Sydney:20290410T120000
DTEND;TZID=Australia/Sydney:20290410T133000
DTSTAMP:20260421T111343
CREATED:20241030T042716Z
LAST-MODIFIED:20241030T042716Z
UID:10004862-1870516800-1870522200@www.sgch.com.au
SUMMARY:Artarmon Community Hearts Walking Group
DESCRIPTION:Join us for a light snack and scenic walk around Artarmon. Walking groups are a fun way to get more physically active whilst connecting with your community. 
URL:https://www.sgch.com.au/event/artarmon-community-hearts-walking-group/2029-04-10/
LOCATION:Artarmon Community Room\, 15-17 Barton Rd\, Artarmon\, NSW\, 2064\, Australia
ATTACH;FMTTYPE=image/jpeg:https://www.sgch.com.au/wp-content/uploads/2024/10/sk-Q6sRAxsAX68-unsplash-scaled.jpg
ORGANIZER;CN="Connecting Communities Team":MAILTO:getinvolved@sgch.com.au
END:VEVENT
BEGIN:VEVENT
DTSTART;TZID=Australia/Sydney:20290417T120000
DTEND;TZID=Australia/Sydney:20290417T133000
DTSTAMP:20260421T111343
CREATED:20241030T042716Z
LAST-MODIFIED:20241030T042716Z
UID:10004863-1871121600-1871127000@www.sgch.com.au
SUMMARY:Artarmon Community Hearts Walking Group
DESCRIPTION:Join us for a light snack and scenic walk around Artarmon. Walking groups are a fun way to get more physically active whilst connecting with your community. 
URL:https://www.sgch.com.au/event/artarmon-community-hearts-walking-group/2029-04-17/
LOCATION:Artarmon Community Room\, 15-17 Barton Rd\, Artarmon\, NSW\, 2064\, Australia
ATTACH;FMTTYPE=image/jpeg:https://www.sgch.com.au/wp-content/uploads/2024/10/sk-Q6sRAxsAX68-unsplash-scaled.jpg
ORGANIZER;CN="Connecting Communities Team":MAILTO:getinvolved@sgch.com.au
END:VEVENT
BEGIN:VEVENT
DTSTART;TZID=Australia/Sydney:20290424T120000
DTEND;TZID=Australia/Sydney:20290424T133000
DTSTAMP:20260421T111343
CREATED:20241030T042716Z
LAST-MODIFIED:20241030T042716Z
UID:10004864-1871726400-1871731800@www.sgch.com.au
SUMMARY:Artarmon Community Hearts Walking Group
DESCRIPTION:Join us for a light snack and scenic walk around Artarmon. Walking groups are a fun way to get more physically active whilst connecting with your community. 
URL:https://www.sgch.com.au/event/artarmon-community-hearts-walking-group/2029-04-24/
LOCATION:Artarmon Community Room\, 15-17 Barton Rd\, Artarmon\, NSW\, 2064\, Australia
ATTACH;FMTTYPE=image/jpeg:https://www.sgch.com.au/wp-content/uploads/2024/10/sk-Q6sRAxsAX68-unsplash-scaled.jpg
ORGANIZER;CN="Connecting Communities Team":MAILTO:getinvolved@sgch.com.au
END:VEVENT
BEGIN:VEVENT
DTSTART;TZID=Australia/Sydney:20290501T120000
DTEND;TZID=Australia/Sydney:20290501T133000
DTSTAMP:20260421T111343
CREATED:20241030T042716Z
LAST-MODIFIED:20241030T042716Z
UID:10004865-1872331200-1872336600@www.sgch.com.au
SUMMARY:Artarmon Community Hearts Walking Group
DESCRIPTION:Join us for a light snack and scenic walk around Artarmon. Walking groups are a fun way to get more physically active whilst connecting with your community. 
URL:https://www.sgch.com.au/event/artarmon-community-hearts-walking-group/2029-05-01/
LOCATION:Artarmon Community Room\, 15-17 Barton Rd\, Artarmon\, NSW\, 2064\, Australia
ATTACH;FMTTYPE=image/jpeg:https://www.sgch.com.au/wp-content/uploads/2024/10/sk-Q6sRAxsAX68-unsplash-scaled.jpg
ORGANIZER;CN="Connecting Communities Team":MAILTO:getinvolved@sgch.com.au
END:VEVENT
BEGIN:VEVENT
DTSTART;TZID=Australia/Sydney:20290508T120000
DTEND;TZID=Australia/Sydney:20290508T133000
DTSTAMP:20260421T111343
CREATED:20241030T042716Z
LAST-MODIFIED:20241030T042716Z
UID:10004866-1872936000-1872941400@www.sgch.com.au
SUMMARY:Artarmon Community Hearts Walking Group
DESCRIPTION:Join us for a light snack and scenic walk around Artarmon. Walking groups are a fun way to get more physically active whilst connecting with your community. 
URL:https://www.sgch.com.au/event/artarmon-community-hearts-walking-group/2029-05-08/
LOCATION:Artarmon Community Room\, 15-17 Barton Rd\, Artarmon\, NSW\, 2064\, Australia
ATTACH;FMTTYPE=image/jpeg:https://www.sgch.com.au/wp-content/uploads/2024/10/sk-Q6sRAxsAX68-unsplash-scaled.jpg
ORGANIZER;CN="Connecting Communities Team":MAILTO:getinvolved@sgch.com.au
END:VEVENT
BEGIN:VEVENT
DTSTART;TZID=Australia/Sydney:20290515T120000
DTEND;TZID=Australia/Sydney:20290515T133000
DTSTAMP:20260421T111343
CREATED:20241030T042716Z
LAST-MODIFIED:20241030T042716Z
UID:10004867-1873540800-1873546200@www.sgch.com.au
SUMMARY:Artarmon Community Hearts Walking Group
DESCRIPTION:Join us for a light snack and scenic walk around Artarmon. Walking groups are a fun way to get more physically active whilst connecting with your community. 
URL:https://www.sgch.com.au/event/artarmon-community-hearts-walking-group/2029-05-15/
LOCATION:Artarmon Community Room\, 15-17 Barton Rd\, Artarmon\, NSW\, 2064\, Australia
ATTACH;FMTTYPE=image/jpeg:https://www.sgch.com.au/wp-content/uploads/2024/10/sk-Q6sRAxsAX68-unsplash-scaled.jpg
ORGANIZER;CN="Connecting Communities Team":MAILTO:getinvolved@sgch.com.au
END:VEVENT
BEGIN:VEVENT
DTSTART;TZID=Australia/Sydney:20290522T120000
DTEND;TZID=Australia/Sydney:20290522T133000
DTSTAMP:20260421T111343
CREATED:20241030T042716Z
LAST-MODIFIED:20241030T042716Z
UID:10004868-1874145600-1874151000@www.sgch.com.au
SUMMARY:Artarmon Community Hearts Walking Group
DESCRIPTION:Join us for a light snack and scenic walk around Artarmon. Walking groups are a fun way to get more physically active whilst connecting with your community. 
URL:https://www.sgch.com.au/event/artarmon-community-hearts-walking-group/2029-05-22/
LOCATION:Artarmon Community Room\, 15-17 Barton Rd\, Artarmon\, NSW\, 2064\, Australia
ATTACH;FMTTYPE=image/jpeg:https://www.sgch.com.au/wp-content/uploads/2024/10/sk-Q6sRAxsAX68-unsplash-scaled.jpg
ORGANIZER;CN="Connecting Communities Team":MAILTO:getinvolved@sgch.com.au
END:VEVENT
BEGIN:VEVENT
DTSTART;TZID=Australia/Sydney:20290529T120000
DTEND;TZID=Australia/Sydney:20290529T133000
DTSTAMP:20260421T111343
CREATED:20241030T042716Z
LAST-MODIFIED:20241030T042716Z
UID:10004869-1874750400-1874755800@www.sgch.com.au
SUMMARY:Artarmon Community Hearts Walking Group
DESCRIPTION:Join us for a light snack and scenic walk around Artarmon. Walking groups are a fun way to get more physically active whilst connecting with your community. 
URL:https://www.sgch.com.au/event/artarmon-community-hearts-walking-group/2029-05-29/
LOCATION:Artarmon Community Room\, 15-17 Barton Rd\, Artarmon\, NSW\, 2064\, Australia
ATTACH;FMTTYPE=image/jpeg:https://www.sgch.com.au/wp-content/uploads/2024/10/sk-Q6sRAxsAX68-unsplash-scaled.jpg
ORGANIZER;CN="Connecting Communities Team":MAILTO:getinvolved@sgch.com.au
END:VEVENT
BEGIN:VEVENT
DTSTART;TZID=Australia/Sydney:20290605T120000
DTEND;TZID=Australia/Sydney:20290605T133000
DTSTAMP:20260421T111343
CREATED:20241030T042716Z
LAST-MODIFIED:20241030T042716Z
UID:10004870-1875355200-1875360600@www.sgch.com.au
SUMMARY:Artarmon Community Hearts Walking Group
DESCRIPTION:Join us for a light snack and scenic walk around Artarmon. Walking groups are a fun way to get more physically active whilst connecting with your community. 
URL:https://www.sgch.com.au/event/artarmon-community-hearts-walking-group/2029-06-05/
LOCATION:Artarmon Community Room\, 15-17 Barton Rd\, Artarmon\, NSW\, 2064\, Australia
ATTACH;FMTTYPE=image/jpeg:https://www.sgch.com.au/wp-content/uploads/2024/10/sk-Q6sRAxsAX68-unsplash-scaled.jpg
ORGANIZER;CN="Connecting Communities Team":MAILTO:getinvolved@sgch.com.au
END:VEVENT
BEGIN:VEVENT
DTSTART;TZID=Australia/Sydney:20290612T120000
DTEND;TZID=Australia/Sydney:20290612T133000
DTSTAMP:20260421T111343
CREATED:20241030T042716Z
LAST-MODIFIED:20241030T042716Z
UID:10004871-1875960000-1875965400@www.sgch.com.au
SUMMARY:Artarmon Community Hearts Walking Group
DESCRIPTION:Join us for a light snack and scenic walk around Artarmon. Walking groups are a fun way to get more physically active whilst connecting with your community. 
URL:https://www.sgch.com.au/event/artarmon-community-hearts-walking-group/2029-06-12/
LOCATION:Artarmon Community Room\, 15-17 Barton Rd\, Artarmon\, NSW\, 2064\, Australia
ATTACH;FMTTYPE=image/jpeg:https://www.sgch.com.au/wp-content/uploads/2024/10/sk-Q6sRAxsAX68-unsplash-scaled.jpg
ORGANIZER;CN="Connecting Communities Team":MAILTO:getinvolved@sgch.com.au
END:VEVENT
BEGIN:VEVENT
DTSTART;TZID=Australia/Sydney:20290619T120000
DTEND;TZID=Australia/Sydney:20290619T133000
DTSTAMP:20260421T111343
CREATED:20241030T042716Z
LAST-MODIFIED:20241030T042716Z
UID:10004872-1876564800-1876570200@www.sgch.com.au
SUMMARY:Artarmon Community Hearts Walking Group
DESCRIPTION:Join us for a light snack and scenic walk around Artarmon. Walking groups are a fun way to get more physically active whilst connecting with your community. 
URL:https://www.sgch.com.au/event/artarmon-community-hearts-walking-group/2029-06-19/
LOCATION:Artarmon Community Room\, 15-17 Barton Rd\, Artarmon\, NSW\, 2064\, Australia
ATTACH;FMTTYPE=image/jpeg:https://www.sgch.com.au/wp-content/uploads/2024/10/sk-Q6sRAxsAX68-unsplash-scaled.jpg
ORGANIZER;CN="Connecting Communities Team":MAILTO:getinvolved@sgch.com.au
END:VEVENT
BEGIN:VEVENT
DTSTART;TZID=Australia/Sydney:20290626T120000
DTEND;TZID=Australia/Sydney:20290626T133000
DTSTAMP:20260421T111343
CREATED:20241030T042716Z
LAST-MODIFIED:20241030T042716Z
UID:10004873-1877169600-1877175000@www.sgch.com.au
SUMMARY:Artarmon Community Hearts Walking Group
DESCRIPTION:Join us for a light snack and scenic walk around Artarmon. Walking groups are a fun way to get more physically active whilst connecting with your community. 
URL:https://www.sgch.com.au/event/artarmon-community-hearts-walking-group/2029-06-26/
LOCATION:Artarmon Community Room\, 15-17 Barton Rd\, Artarmon\, NSW\, 2064\, Australia
ATTACH;FMTTYPE=image/jpeg:https://www.sgch.com.au/wp-content/uploads/2024/10/sk-Q6sRAxsAX68-unsplash-scaled.jpg
ORGANIZER;CN="Connecting Communities Team":MAILTO:getinvolved@sgch.com.au
END:VEVENT
BEGIN:VEVENT
DTSTART;TZID=Australia/Sydney:20290703T120000
DTEND;TZID=Australia/Sydney:20290703T133000
DTSTAMP:20260421T111343
CREATED:20241030T042716Z
LAST-MODIFIED:20241030T042716Z
UID:10004874-1877774400-1877779800@www.sgch.com.au
SUMMARY:Artarmon Community Hearts Walking Group
DESCRIPTION:Join us for a light snack and scenic walk around Artarmon. Walking groups are a fun way to get more physically active whilst connecting with your community. 
URL:https://www.sgch.com.au/event/artarmon-community-hearts-walking-group/2029-07-03/
LOCATION:Artarmon Community Room\, 15-17 Barton Rd\, Artarmon\, NSW\, 2064\, Australia
ATTACH;FMTTYPE=image/jpeg:https://www.sgch.com.au/wp-content/uploads/2024/10/sk-Q6sRAxsAX68-unsplash-scaled.jpg
ORGANIZER;CN="Connecting Communities Team":MAILTO:getinvolved@sgch.com.au
END:VEVENT
BEGIN:VEVENT
DTSTART;TZID=Australia/Sydney:20290710T120000
DTEND;TZID=Australia/Sydney:20290710T133000
DTSTAMP:20260421T111343
CREATED:20241030T042716Z
LAST-MODIFIED:20241030T042716Z
UID:10004875-1878379200-1878384600@www.sgch.com.au
SUMMARY:Artarmon Community Hearts Walking Group
DESCRIPTION:Join us for a light snack and scenic walk around Artarmon. Walking groups are a fun way to get more physically active whilst connecting with your community. 
URL:https://www.sgch.com.au/event/artarmon-community-hearts-walking-group/2029-07-10/
LOCATION:Artarmon Community Room\, 15-17 Barton Rd\, Artarmon\, NSW\, 2064\, Australia
ATTACH;FMTTYPE=image/jpeg:https://www.sgch.com.au/wp-content/uploads/2024/10/sk-Q6sRAxsAX68-unsplash-scaled.jpg
ORGANIZER;CN="Connecting Communities Team":MAILTO:getinvolved@sgch.com.au
END:VEVENT
BEGIN:VEVENT
DTSTART;TZID=Australia/Sydney:20290717T120000
DTEND;TZID=Australia/Sydney:20290717T133000
DTSTAMP:20260421T111343
CREATED:20241030T042716Z
LAST-MODIFIED:20241030T042716Z
UID:10004876-1878984000-1878989400@www.sgch.com.au
SUMMARY:Artarmon Community Hearts Walking Group
DESCRIPTION:Join us for a light snack and scenic walk around Artarmon. Walking groups are a fun way to get more physically active whilst connecting with your community. 
URL:https://www.sgch.com.au/event/artarmon-community-hearts-walking-group/2029-07-17/
LOCATION:Artarmon Community Room\, 15-17 Barton Rd\, Artarmon\, NSW\, 2064\, Australia
ATTACH;FMTTYPE=image/jpeg:https://www.sgch.com.au/wp-content/uploads/2024/10/sk-Q6sRAxsAX68-unsplash-scaled.jpg
ORGANIZER;CN="Connecting Communities Team":MAILTO:getinvolved@sgch.com.au
END:VEVENT
BEGIN:VEVENT
DTSTART;TZID=Australia/Sydney:20290724T120000
DTEND;TZID=Australia/Sydney:20290724T133000
DTSTAMP:20260421T111343
CREATED:20241030T042716Z
LAST-MODIFIED:20241030T042716Z
UID:10004877-1879588800-1879594200@www.sgch.com.au
SUMMARY:Artarmon Community Hearts Walking Group
DESCRIPTION:Join us for a light snack and scenic walk around Artarmon. Walking groups are a fun way to get more physically active whilst connecting with your community. 
URL:https://www.sgch.com.au/event/artarmon-community-hearts-walking-group/2029-07-24/
LOCATION:Artarmon Community Room\, 15-17 Barton Rd\, Artarmon\, NSW\, 2064\, Australia
ATTACH;FMTTYPE=image/jpeg:https://www.sgch.com.au/wp-content/uploads/2024/10/sk-Q6sRAxsAX68-unsplash-scaled.jpg
ORGANIZER;CN="Connecting Communities Team":MAILTO:getinvolved@sgch.com.au
END:VEVENT
BEGIN:VEVENT
DTSTART;TZID=Australia/Sydney:20290731T120000
DTEND;TZID=Australia/Sydney:20290731T133000
DTSTAMP:20260421T111343
CREATED:20241030T042716Z
LAST-MODIFIED:20241030T042716Z
UID:10004878-1880193600-1880199000@www.sgch.com.au
SUMMARY:Artarmon Community Hearts Walking Group
DESCRIPTION:Join us for a light snack and scenic walk around Artarmon. Walking groups are a fun way to get more physically active whilst connecting with your community. 
URL:https://www.sgch.com.au/event/artarmon-community-hearts-walking-group/2029-07-31/
LOCATION:Artarmon Community Room\, 15-17 Barton Rd\, Artarmon\, NSW\, 2064\, Australia
ATTACH;FMTTYPE=image/jpeg:https://www.sgch.com.au/wp-content/uploads/2024/10/sk-Q6sRAxsAX68-unsplash-scaled.jpg
ORGANIZER;CN="Connecting Communities Team":MAILTO:getinvolved@sgch.com.au
END:VEVENT
BEGIN:VEVENT
DTSTART;TZID=Australia/Sydney:20290807T120000
DTEND;TZID=Australia/Sydney:20290807T133000
DTSTAMP:20260421T111343
CREATED:20241030T042716Z
LAST-MODIFIED:20241030T042716Z
UID:10004879-1880798400-1880803800@www.sgch.com.au
SUMMARY:Artarmon Community Hearts Walking Group
DESCRIPTION:Join us for a light snack and scenic walk around Artarmon. Walking groups are a fun way to get more physically active whilst connecting with your community. 
URL:https://www.sgch.com.au/event/artarmon-community-hearts-walking-group/2029-08-07/
LOCATION:Artarmon Community Room\, 15-17 Barton Rd\, Artarmon\, NSW\, 2064\, Australia
ATTACH;FMTTYPE=image/jpeg:https://www.sgch.com.au/wp-content/uploads/2024/10/sk-Q6sRAxsAX68-unsplash-scaled.jpg
ORGANIZER;CN="Connecting Communities Team":MAILTO:getinvolved@sgch.com.au
END:VEVENT
BEGIN:VEVENT
DTSTART;TZID=Australia/Sydney:20290814T120000
DTEND;TZID=Australia/Sydney:20290814T133000
DTSTAMP:20260421T111343
CREATED:20241030T042716Z
LAST-MODIFIED:20241030T042716Z
UID:10004880-1881403200-1881408600@www.sgch.com.au
SUMMARY:Artarmon Community Hearts Walking Group
DESCRIPTION:Join us for a light snack and scenic walk around Artarmon. Walking groups are a fun way to get more physically active whilst connecting with your community. 
URL:https://www.sgch.com.au/event/artarmon-community-hearts-walking-group/2029-08-14/
LOCATION:Artarmon Community Room\, 15-17 Barton Rd\, Artarmon\, NSW\, 2064\, Australia
ATTACH;FMTTYPE=image/jpeg:https://www.sgch.com.au/wp-content/uploads/2024/10/sk-Q6sRAxsAX68-unsplash-scaled.jpg
ORGANIZER;CN="Connecting Communities Team":MAILTO:getinvolved@sgch.com.au
END:VEVENT
END:VCALENDAR